BEGIN:VCALENDAR
VERSION:2.0
PRODID:-//Veeriku Spordikeskus - ECPv6.15.20//NONSGML v1.0//EN
CALSCALE:GREGORIAN
METHOD:PUBLISH
X-WR-CALNAME:Veeriku Spordikeskus
X-ORIGINAL-URL:https://www.veerikusport.ee
X-WR-CALDESC:Events for Veeriku Spordikeskus
REFRESH-INTERVAL;VALUE=DURATION:PT1H
X-Robots-Tag:noindex
X-PUBLISHED-TTL:PT1H
BEGIN:VTIMEZONE
TZID:Europe/Tallinn
BEGIN:DAYLIGHT
TZOFFSETFROM:+0200
TZOFFSETTO:+0300
TZNAME:EEST
DTSTART:20250330T010000
END:DAYLIGHT
BEGIN:STANDARD
TZOFFSETFROM:+0300
TZOFFSETTO:+0200
TZNAME:EET
DTSTART:20251026T010000
END:STANDARD
BEGIN:DAYLIGHT
TZOFFSETFROM:+0200
TZOFFSETTO:+0300
TZNAME:EEST
DTSTART:20260329T010000
END:DAYLIGHT
BEGIN:STANDARD
TZOFFSETFROM:+0300
TZOFFSETTO:+0200
TZNAME:EET
DTSTART:20261025T010000
END:STANDARD
BEGIN:DAYLIGHT
TZOFFSETFROM:+0200
TZOFFSETTO:+0300
TZNAME:EEST
DTSTART:20270328T010000
END:DAYLIGHT
BEGIN:STANDARD
TZOFFSETFROM:+0300
TZOFFSETTO:+0200
TZNAME:EET
DTSTART:20271031T010000
END:STANDARD
END:VTIMEZONE
BEGIN:VEVENT
DTSTART;TZID=Europe/Tallinn:20260426T120000
DTEND;TZID=Europe/Tallinn:20260426T140000
DTSTAMP:20260426T065340
CREATED:20260105T130738Z
LAST-MODIFIED:20260105T130738Z
UID:3319-1777204800-1777212000@www.veerikusport.ee
SUMMARY:Ambitsioonikad Amatöörid
DESCRIPTION:
URL:https://www.veerikusport.ee/uritus/ambitsioonikad-amatoorid-9/
END:VEVENT
END:VCALENDAR